BEGIN:VCALENDAR
VERSION:2.0
PRODID:-//BMSCMC - ECPv6.15.20//NONSGML v1.0//EN
CALSCALE:GREGORIAN
METHOD:PUBLISH
X-ORIGINAL-URL:https://bmscmc.org
X-WR-CALDESC:Events for BMSCMC
REFRESH-INTERVAL;VALUE=DURATION:PT1H
X-Robots-Tag:noindex
X-PUBLISHED-TTL:PT1H
BEGIN:VTIMEZONE
TZID:UTC
BEGIN:STANDARD
TZOFFSETFROM:+0000
TZOFFSETTO:+0000
TZNAME:UTC
DTSTART:20230101T000000
END:STANDARD
END:VTIMEZONE
BEGIN:VEVENT
DTSTART;TZID=UTC:20240511T080000
DTEND;TZID=UTC:20240512T170000
DTSTAMP:20260426T040019
CREATED:20231030T144517Z
LAST-MODIFIED:20231030T144525Z
UID:3194-1715414400-1715533200@bmscmc.org
SUMMARY:Return to Baggy May 2024
DESCRIPTION:Information\nClimbing on adventurous North Devon sea cliffs… fun abseils and exciting exits… (the real reason you bought that van). Coastal footpaths for those who want to go for a walk… \nServices\nNot a lot actually\, except for a few pubs so you should really bring everything you need with you. \nAccommodation\nCamping at the popular and well-priced North Morte Farm… LINK HERE. \nFood\nPossibility of a pub but bookings can get difficult at this time of year so come prepared… \nTransport\nCar is the best… poor public transport in this area. \nItinerary\nMeet up at the carpark with plans to get some of the classics in… Jim will bring the Club abseil rope… If you are new to sea cliffs\, then you need to be confident at abseiling in using a Prussik knot and have the skills to ascend the rope with Prussiks too. And you should be carrying two Prussiks… \nDates\nMeet at the carpark on Saturday 11th May 2024 and climb. Stay over at the campsite and options to climb Sunday (12th May 2024) morning or the long drive home for some…
URL:https://bmscmc.org/event/return-to-baggy-may-2024/
LOCATION:Baggy Point\, EX33 1PA\, Moor Lane\, Croyde\, Devon\, EX33 1PA
CATEGORIES:Trips
ATTACH;FMTTYPE=image/jpeg:https://bmscmc.org/wp-content/uploads/2023/10/Baggy-Point.jpeg
END:VEVENT
END:VCALENDAR