BEGIN:VCALENDAR
VERSION:2.0
PRODID:-//BMSCMC - ECPv6.15.20//NONSGML v1.0//EN
CALSCALE:GREGORIAN
METHOD:PUBLISH
X-WR-CALNAME:BMSCMC
X-ORIGINAL-URL:https://bmscmc.org
X-WR-CALDESC:Events for BMSCMC
REFRESH-INTERVAL;VALUE=DURATION:PT1H
X-Robots-Tag:noindex
X-PUBLISHED-TTL:PT1H
BEGIN:VTIMEZONE
TZID:UTC
BEGIN:STANDARD
TZOFFSETFROM:+0000
TZOFFSETTO:+0000
TZNAME:UTC
DTSTART:20230101T000000
END:STANDARD
END:VTIMEZONE
BEGIN:VEVENT
DTSTART;VALUE=DATE:20240518
DTEND;VALUE=DATE:20240520
DTSTAMP:20260426T040001
CREATED:20231113T194321Z
LAST-MODIFIED:20231113T194326Z
UID:3216-1715990400-1716163199@bmscmc.org
SUMMARY:Exmoor Coastal Path Walk from Heddon Orchard Bothy
DESCRIPTION:Heddon Valley\, Devon EX31 4PY\, United Kingdom \nA great scenic coastal walking route – the South-West Coastal Path. Andrew Shaw & Jim enjoyed going west in 2023\, so are returning to go east. Come and join us\, the bothy is booked with 2 spare places at £10 a head for 4 total; great pub with real ale and good food outside the front door. https://www.nationaltrust.org.uk/holidays/devon/heddon-orchard-bothy \n  \nFood and Accommodation: \nBring trail food for Saturday… Saturday night we plan to eat at the pub. Have snacks for Sunday as there are no shops. Andrew has booked out the Heddon Orchard Bothy (National Trust) which sleeps 4. The first two to shout up get a place (£10.00 each for the night). \n  \nServices: \nNone\, other than the pub. \n  \nTransport and Travel: \nNot many airports\, so car is the best option… \n  \nDates: 18th May 2024 to 19th May 2024 \n  \nOrganiser: Andrew Shaw
URL:https://bmscmc.org/event/exmoor-coastal-path-walk-from-heddon-orchard-bothy/
CATEGORIES:Trips
ATTACH;FMTTYPE=image/jpeg:https://bmscmc.org/wp-content/uploads/2023/11/Picture-1.jpg
END:VEVENT
END:VCALENDAR