BEGIN:VCALENDAR
VERSION:2.0
PRODID:-//BMSCMC - ECPv6.15.20//NONSGML v1.0//EN
CALSCALE:GREGORIAN
METHOD:PUBLISH
X-ORIGINAL-URL:https://bmscmc.org
X-WR-CALDESC:Events for BMSCMC
REFRESH-INTERVAL;VALUE=DURATION:PT1H
X-Robots-Tag:noindex
X-PUBLISHED-TTL:PT1H
BEGIN:VTIMEZONE
TZID:UTC
BEGIN:STANDARD
TZOFFSETFROM:+0000
TZOFFSETTO:+0000
TZNAME:UTC
DTSTART:20230101T000000
END:STANDARD
END:VTIMEZONE
BEGIN:VEVENT
DTSTART;VALUE=DATE:20240705
DTEND;VALUE=DATE:20240708
DTSTAMP:20260425T183438
CREATED:20230904T085224Z
LAST-MODIFIED:20250625T182215Z
UID:3179-1720137600-1720396799@bmscmc.org
SUMMARY:Somerset Summer 2024
DESCRIPTION:Information: Arrive Friday 5th July 2024 with options to boulder at Ubley Warren. A day (Saturday) over at one of the crags and then a probable visit to one of the quarries Sunday morning. Bouldering\, sport\, trad\, sea cliffs\, gorges and quarries… something for everyone. Please get in touch with Jim so he can make arrangements. \n  \nServices: Not much\, bring it all with you. There are local shops in the village 1.5km away and 3 pubs within a 10 minute drive. \n  \nAccommodation: Floor space or camping at Jim’s house. More van space now the front tree has gone… \n  \nFood: BBQ on Friday & Saturday night and there is always something for breakfast. \nTransport: You will need a car or at least\, space in one… \n  \nDates: Arrive on the evening of Friday 5th July 2024 and leave on Sunday 7th July 2024. \n  \nOrganiser: Jim McCall
URL:https://bmscmc.org/event/somerset-summer-2024/
LOCATION:Somerset\, United Kingdom
CATEGORIES:Trips
ATTACH;FMTTYPE=image/png:https://bmscmc.org/wp-content/uploads/2023/09/SomersetClimbing.png
END:VEVENT
END:VCALENDAR