BEGIN:VCALENDAR
VERSION:2.0
PRODID:-//BMSCMC - ECPv6.15.20//NONSGML v1.0//EN
CALSCALE:GREGORIAN
METHOD:PUBLISH
X-WR-CALNAME:BMSCMC
X-ORIGINAL-URL:https://bmscmc.org
X-WR-CALDESC:Events for BMSCMC
REFRESH-INTERVAL;VALUE=DURATION:PT1H
X-Robots-Tag:noindex
X-PUBLISHED-TTL:PT1H
BEGIN:VTIMEZONE
TZID:UTC
BEGIN:STANDARD
TZOFFSETFROM:+0000
TZOFFSETTO:+0000
TZNAME:UTC
DTSTART:20230101T000000
END:STANDARD
END:VTIMEZONE
BEGIN:VEVENT
DTSTART;VALUE=DATE:20240719
DTEND;VALUE=DATE:20240729
DTSTAMP:20260425T183348
CREATED:20231113T195231Z
LAST-MODIFIED:20231113T195903Z
UID:3220-1721347200-1722211199@bmscmc.org
SUMMARY:Stetind & Lofoten
DESCRIPTION:Climb Norway’s national mountain and then spend a week in the climbers and walkers playground that is the Lofoten Isles. \nThis trip is scheduled so that I can meet up with a friend of mine who is working in Lofoten and unfortunately the only week she can get off clashes with Jim’s alpine trip. Although\, there is the option to leave a couple of days early\, to head down to the alps\, and have an epic fortnight of climbing and alpinism! \nIf you would like to join this trip or have any questions then please get in touch!  Due to the cost of car hire it makes most sense to organise people into groups of 4. I’m happy to coordinate linking up individuals or smaller groups\, if needed. \n  \nThe Plan \nFriday the 19th \nFly to Harstad / Narvik Airport (EVE)\, pick up the hire cars\, and drive ~2 hrs to Stetind. Set up camp and try to get some sleep in the midnight sun (eye masks recommended). \nSaturday the 20th & Sunday the 21st \nStetind – Google Maps \nClimb / explore Stetind and the surrounding region. \nStetind has various routes up it\, with the easiest being very achievable. It involves a single pitch of Severe climbing\, some scrambling and some moving together on a rope alpine style.  However\, it is still a big mountain (1394m)\, and you’re starting at sea level so it shouldn’t be underestimated. Hopefully the two days will give us long enough to get a suitable weather window and to recover a bit afterwards! \nFor those who don’t fancy a Severe hand traverse pitch with 600m of exposure\, there are plenty of other climbing options in the area\, as well as lots of walking. \n  \nMonday the 22nd \nTwo ferries and some driving (4-5 hrs total) to get to our accommodation on the Lofoten Islands. We are staying here Forside | Kalle i Lofoten\, but there are other Airbnb options in the area that may work out a bit cheaper if that is your priority. If we’re lucky there will be some time for a bit of climbing at the nearby single pitch crag at the end of the day. \n  \nTuesday the 23rd – Saturday the 27th \nClimb / scramble / walk / kayak\, etc. Lofoten is an amazing place to be for anyone interested in the outdoors! There are innumerable climbing and walking routes\, most of the climbing is multi-pitch and is spread over a range of grades. \n  \nSunday the 22nd \nFly home \n  \nWhat to bring \nStandard camping\, climbing and outdoor gear\, expect daytime temperatures between 10 – 15 degrees and at least some rain. The camping spot at Stetind is beside the car park\, so you won’t have to carry your gear for. We’ll have to pick up stove fuel when we arrive but otherwise try to bring as many supplies as you can\, due to the cost of everything in Norway. If you’ve got space in your luggage then bringing some food could help keep the bills down also\, stock up on duty free! \n  \nServices \nThere is and outdoor shop in Narvik\, about an hour’s drive from Stetind\, and on Lofoten but at Norwegian prices it’s better not to forget anything! \n  \nAccommodation \nWhilst at Stetind we’ll be wild camping (with a stream for water\, and composting toilets). On Lofoten the group so far is staying here; Forside | Kalle i Lofoten but there are also Airbnb’s in the area\, if you’d prefer. \n  \nTransport \nWe are flying into Harstad / Narvik Airport (EVE) as it is the closest and flight prices were reasonable when we looked. We will be on the SAS flight from Oslo that lands at 19:10. \nThere are several other airports within a few hours drive (last time we went to Lofoten we flew to Kiruna in Sweden) but when I last looked\, they weren’t that much cheaper and added a lot of driving. \nA hire car is the best way to get around the area\, there are several car hire companies at the airport.
URL:https://bmscmc.org/event/stetind-lofoten/
LOCATION:Lofoten Islands\, 8590 Kjøpsvik\, Norway
CATEGORIES:Trips
ATTACH;FMTTYPE=image/jpeg:https://bmscmc.org/wp-content/uploads/2023/11/PHOTO-2023-11-10-11-00-41.jpg
END:VEVENT
END:VCALENDAR