BEGIN:VCALENDAR
VERSION:2.0
PRODID:-//BMSCMC - ECPv6.15.20//NONSGML v1.0//EN
CALSCALE:GREGORIAN
METHOD:PUBLISH
X-ORIGINAL-URL:https://bmscmc.org
X-WR-CALDESC:Events for BMSCMC
REFRESH-INTERVAL;VALUE=DURATION:PT1H
X-Robots-Tag:noindex
X-PUBLISHED-TTL:PT1H
BEGIN:VTIMEZONE
TZID:UTC
BEGIN:STANDARD
TZOFFSETFROM:+0000
TZOFFSETTO:+0000
TZNAME:UTC
DTSTART:20230101T000000
END:STANDARD
END:VTIMEZONE
BEGIN:VEVENT
DTSTART;TZID=UTC:20240830T080000
DTEND;TZID=UTC:20240901T170000
DTSTAMP:20260425T103112
CREATED:20231030T145508Z
LAST-MODIFIED:20250625T182419Z
UID:3199-1725004800-1725210000@bmscmc.org
SUMMARY:The Roaches and the Don Whillans Memorial Hut August 2024
DESCRIPTION:Information\nClimbing at the Roaches from the conveniently situated Don Whillans Memorial Hut… If you haven’t stayed here you need to and if you have\, then you will want to again. The Roaches offers all grades of climbing for those looking to learn to lead\, for families and for those wanting to push their grades… Reasonable hill walking including the pilgrimage to Lud’s Church for the Luddites… \nServices\nNot a lot actually\, except for a few pubs so you should really bring everything you need with you. We will seek to arrange someone to organise the catering so expect to contribute for dinner Friday night\, breakfast and lunch Saturday (we normally book the Rock Inn Saturday night) and then Sunday breakfast… We will be in touch about this. \nAccommodation\nOne of the best bunkhouses in the Peak… bring a sleeping bag and roll mat as the two rooms provide bare wooden bunks only… There is not a lot of privacy… There is hot running water and two flush toilets\, a lounge with heater\, a drying room (small) and the kitchen\, in the cave. LINK HERE. The Club had its founding meeting here back in 2013\, the last time we attended here as a group. We ave booked the hut out for two nights. Prices are £22.00 for two nights (no single night requests accepted and no refunds). Food contributions may be an additional £10-15.00… Please Contact Jim as soon as possible to book your space as this will probably be oversubscribed. \nFood\nWe will ask for a contribution and provide food for the weekend… we will be in touch about dietary requirements and preferences… The kitchen is quite basic and it is not that practical for everyone to cook for themselves… the shared option is the only way it all works. \nTransport\nCar is the best… Leek is the big smoke down the hill to aim for if you need a lift… get in touch early! \nItinerary\nMeet up at the car park with plans to get some of the classics in… Meet up Friday 30th August and climb Saturday 31st August and leave Sunday 1st September. All of us will be required to spend 30 minutes or so cleaning the hut. Please factor this in to your Sunday morning and do not expect to leave before we have left the hut in good order. \nDates\nMeet at the hut on Friday 30th August and leave on Sunday 1st September 2024.
URL:https://bmscmc.org/event/the-roaches-and-the-don-whillans-memorial-hut-august-2024/
LOCATION:The Roaches\, Rockhall Cottage (Don Whillans Memorial Hut)\, Upper Hulme\, Leek\, ST13 8UB\, United Kingdom
CATEGORIES:Trips
ATTACH;FMTTYPE=image/jpeg:https://bmscmc.org/wp-content/uploads/2023/10/Don-Whillans-Hut.jpeg
END:VEVENT
END:VCALENDAR