BEGIN:VCALENDAR
VERSION:2.0
PRODID:-//BMSCMC - ECPv6.15.20//NONSGML v1.0//EN
CALSCALE:GREGORIAN
METHOD:PUBLISH
X-ORIGINAL-URL:https://bmscmc.org
X-WR-CALDESC:Events for BMSCMC
REFRESH-INTERVAL;VALUE=DURATION:PT1H
X-Robots-Tag:noindex
X-PUBLISHED-TTL:PT1H
BEGIN:VTIMEZONE
TZID:UTC
BEGIN:STANDARD
TZOFFSETFROM:+0000
TZOFFSETTO:+0000
TZNAME:UTC
DTSTART:20230101T000000
END:STANDARD
END:VTIMEZONE
BEGIN:VEVENT
DTSTART;VALUE=DATE:20240913
DTEND;VALUE=DATE:20240916
DTSTAMP:20260425T103208
CREATED:20240513T162236Z
LAST-MODIFIED:20240520T124446Z
UID:3292-1726185600-1726444799@bmscmc.org
SUMMARY:LANCASHIRE ROCKS!
DESCRIPTION:13th-15th September 2024 \n  \nInformation \nAndrew\, Jim\, Keith and Nigel will be heading North for some fun on the rock in Lancashire and Yorkshire. We will arrive on Friday\, staying at the YHA in Ingleton. Saturday will be at Trowbarrow where we’ll find good routes at all grades. We have one particular route in mind. Dress code: denim. Back to Ingleton on Saturday night. There’s lots of other climbing possibilities in the area\, so we could climb on Friday and Sunday as well. Possible crags would be Twistleton Scar or Witches’ Quarry (trad)\, or trad/sport at crags between Ingleton and Settle\, for example at Giggleswick North or Giggleswick South. \n  \nServices \nThere are shops\, pubs\, restaurants and takeaways in Ingleton. The Co-op has an ATM and there is Inglesports for gear. Self-catering or booked meals at the YHA. \n  \nAccommodation \nYHA Ingleton. Book your room here: https://www.yha.org.uk/hostel/yha-ingleton \n  \nFood \nSelf-catering or booked meals for breakfast and evening meal at the YHA. They can also sell you a packed lunch. Pubs and restaurants nearby. \n  \nTransport \nProbably cars. Nearest train station is Ribblehead on the Settle-Carlisle line. Good connection to Leeds. \n  \nItinerary \nArrive on Friday to climb if agreed. Otherwise meet at YHA on Friday evening or at Trowbarrow on Saturday morning. Possible second venue on Saturday (see above). Climbing on Sunday for those not in a hurry to get home. \n  \nDates \nFriday 13th to Sunday 15th September 2024 \n  \nLocation  \nIngleton YHA\, Greta Tower\, Sammy Lane\, Ingleton LA6 3EG \n  \nOrganiser \nAndrew Martin
URL:https://bmscmc.org/event/lancashire-rocks/
CATEGORIES:Trips
ATTACH;FMTTYPE=image/jpeg:https://bmscmc.org/wp-content/uploads/2024/05/Trowbarrow_quarry_-_geograph.org_.uk_-_1003764.jpg
ORGANIZER;CN="Andrew Martin":MAILTO:avicm1954@gmail.com
END:VEVENT
END:VCALENDAR