BEGIN:VCALENDAR
VERSION:2.0
PRODID:-//BMSCMC - ECPv6.15.20//NONSGML v1.0//EN
CALSCALE:GREGORIAN
METHOD:PUBLISH
X-ORIGINAL-URL:https://bmscmc.org
X-WR-CALDESC:Events for BMSCMC
REFRESH-INTERVAL;VALUE=DURATION:PT1H
X-Robots-Tag:noindex
X-PUBLISHED-TTL:PT1H
BEGIN:VTIMEZONE
TZID:UTC
BEGIN:STANDARD
TZOFFSETFROM:+0000
TZOFFSETTO:+0000
TZNAME:UTC
DTSTART:20230101T000000
END:STANDARD
END:VTIMEZONE
BEGIN:VEVENT
DTSTART;VALUE=DATE:20241207
DTEND;VALUE=DATE:20241209
DTSTAMP:20260425T001446
CREATED:20240726T152836Z
LAST-MODIFIED:20240726T153054Z
UID:3365-1733529600-1733702399@bmscmc.org
SUMMARY:End of the Gritstone Season December 2024
DESCRIPTION:Information\nJoin Jim and Jake for a last chance before the long wait til Gritstone kicks off again… It’s a while so get it in while you can. We will pick a venue to meet Saturday\, dependent on weather and then climb Saturday. Stay over at Ilam YHA and then travel Sunday… The Peak is good for walking for those who don’t want to climb… \n  \nServices: Ashbourne is the big smoke a few miles away… food and banks available. The hostel has a members’ kitchen and a serving kitchen that provides dinner and breakfast. \n  \nAccommodation: Ilam Hall YHA… https://www.yha.org.uk/hostel/yha-ilam-hall  Currently space for £16:00 per person… shared room. \n  \n\nFood: Probably eat at the hostel Saturday night and Sunday morning… \n  \nTransport: You will need a car\, or at least space in one… Depends where we are climbing… Probably the Eastern Grit edges\, so aim for Hathersage\, trains from Sheffield and Manchester\, and get in touch early and we will try to arrange a place in a car. Otherwise\, meet you at the crag. \n  \nDates: Arrive at 08:30am at the crag\, Saturday 7th December 2024 and climb for the day. Depart am on Sunday 8th December 2024. \n  \nOrganiser: Jim McCall \n  \nLocation\nIlam Hall YHA \n  \nOrganiser\nJim McCall
URL:https://bmscmc.org/event/end-of-the-gritstone-season-december-2024/
LOCATION:Peak District\, S32 1BR\, United Kingdom
CATEGORIES:Trips
ATTACH;FMTTYPE=image/png:https://bmscmc.org/wp-content/uploads/2024/07/jim-peak-december.png
END:VEVENT
END:VCALENDAR