BEGIN:VCALENDAR
VERSION:2.0
PRODID:-//BMSCMC - ECPv6.15.20//NONSGML v1.0//EN
CALSCALE:GREGORIAN
METHOD:PUBLISH
X-ORIGINAL-URL:https://bmscmc.org
X-WR-CALDESC:Events for BMSCMC
REFRESH-INTERVAL;VALUE=DURATION:PT1H
X-Robots-Tag:noindex
X-PUBLISHED-TTL:PT1H
BEGIN:VTIMEZONE
TZID:UTC
BEGIN:STANDARD
TZOFFSETFROM:+0000
TZOFFSETTO:+0000
TZNAME:UTC
DTSTART:20240101T000000
END:STANDARD
END:VTIMEZONE
BEGIN:VEVENT
DTSTART;VALUE=DATE:20250829
DTEND;VALUE=DATE:20250901
DTSTAMP:20260424T092808
CREATED:20250118T080355Z
LAST-MODIFIED:20250118T080355Z
UID:3449-1756425600-1756684799@bmscmc.org
SUMMARY:Devon Deep Water Soloing
DESCRIPTION:Info: Late summer\, warm seas and sunny days can mean only one thing: deep water soloing season is on. Join us at Devon’s premier venue for a weekend of splashy fun. Routes for all\, from 3a to Neil Gresham’s soup-up 8a\, Cutlass\, with plenty to go at between. Adventurous traverses just above sea level abound\, Magical Mystery Tour and Rainbow Bridge are not to be missed. For those feeling less inclined to get wet\, there are also ample trad routes to choose from\, with the imposing cave of the Great Redoubt featuring the Hard Rock classic Moonraker\, to the pleasant sun-trap of red wall. \nServices: All the trappings of civilisation available in the nearby fishing town of Brixham. \nAccommodation: Camping available at walking distance from climbing at the Centry Road campsite and touring park. \nFood: Campsite cooking with washing facilities\, pubs available in Brixham. \nTransport: Trains run to Paignton with local bus connection between\, lifts can be coordinated.
URL:https://bmscmc.org/event/devon-deep-water-soloing/
LOCATION:Berry Head\, Berry Head\, Brixham\, Devon\, TQ5 9AW\, United Kingdom
CATEGORIES:Trips
ATTACH;FMTTYPE=image/jpeg:https://bmscmc.org/wp-content/uploads/2025/01/DeepWaterSoloing-scaled.jpeg
ORGANIZER;CN="Dan Osmond":MAILTO:danielrosmond@hotmail.co.uk
END:VEVENT
END:VCALENDAR