BEGIN:VCALENDAR
VERSION:2.0
PRODID:-//BMSCMC - ECPv6.15.20//NONSGML v1.0//EN
CALSCALE:GREGORIAN
METHOD:PUBLISH
X-ORIGINAL-URL:https://bmscmc.org
X-WR-CALDESC:Events for BMSCMC
REFRESH-INTERVAL;VALUE=DURATION:PT1H
X-Robots-Tag:noindex
X-PUBLISHED-TTL:PT1H
BEGIN:VTIMEZONE
TZID:UTC
BEGIN:STANDARD
TZOFFSETFROM:+0000
TZOFFSETTO:+0000
TZNAME:UTC
DTSTART:20240101T000000
END:STANDARD
END:VTIMEZONE
BEGIN:VEVENT
DTSTART;VALUE=DATE:20251011
DTEND;VALUE=DATE:20251019
DTSTAMP:20260424T003722
CREATED:20250120T093014Z
LAST-MODIFIED:20250120T094201Z
UID:3468-1760140800-1760831999@bmscmc.org
SUMMARY:RETURN TO COSTA BLANCA
DESCRIPTION:Information: This will be our third club trip to Costa Blanca\, and we love it! The opportunity to escape the damp and cold of our autumn and walk\, scramble and climb in warm sunshine in Spain is unbeatable. On previous trips\, we’ve done loads of sport climbing\, some amazing trad routes and\, last time\, an epic scramble traverse of the Bernia Ridge. There’s so much on offer and it’s a great place to be. \nServices: Despite being based up in the mountains\, we will be only a 10-minute drive from the commercial centre in Benidorm. If that doesn’t appeal\, the village of Finestrat has everything you need. \nAccommodation: The Orange House\, Finestrat\, Spain \nFood: Self-catering for breakfast and evening meals. Eat out in local bars or restaurants nearby. Plenty of fresh produce in the local shops. \nTransport: Fly to Alicante and share car hire. One hour from the airport and we can arrange pick-up. \nItinerary: Ideally\, coordinate arrival in Alicante\, but we’ve never managed this in the past. In practice\, we can climb near Alicante on pick-up and drop-off days for those arriving later or leaving earlier. Venues to be discussed and agreed day-to-day\, but we’ll all have our own ideas. I’m keen to get some trad done on the coastal crags.
URL:https://bmscmc.org/event/return-to-costa-blanca/
LOCATION:The Orange House\, De La Foia\, 23\, Finestrat\, Alicante\, 03509\, Spain
CATEGORIES:Trips
ATTACH;FMTTYPE=image/jpeg:https://bmscmc.org/wp-content/uploads/2025/01/PHOTO-2025-01-19-22-57-59-3.jpg
ORGANIZER;CN="Andrew Martin":MAILTO:avicm1954@gmail.com
END:VEVENT
BEGIN:VEVENT
DTSTART;VALUE=DATE:20251024
DTEND;VALUE=DATE:20251027
DTSTAMP:20260424T003722
CREATED:20250112T163745Z
LAST-MODIFIED:20250112T163745Z
UID:3428-1761264000-1761523199@bmscmc.org
SUMMARY:SNOWDONIA 2025 PART 2 
DESCRIPTION:Info:\nJoin Paul on a trip to Snowdonia… multi-pitch trad\, scrambling and hill-walking all available. Something for everyone. Meet up either on the Friday night at YHA Ogwen cottage\, or\, alternatively meet at a pre-agreed crag Saturday morning. Climb/Walk/Scramble Saturday with various options for Sunday to either travel back early or get a cheeky route in before departure.This would be a good trip to attend if you are keen to develop your trad climbing on multi-pitch climbs. Please get in touch with Jim if you are keen. \nServices:\nBanks and food shops available in Betws y Coed and Bethesda on the road in. \nAccommodation:\nStaying at Idwal Cottage YHA… Details HERE. \nFood:\nProbably best to be self-sufficient but a there are plenty of pubs in the area. The hostel has kitchens. \nTransport:\nCar is easiest. Train links to Bangor and local buses out to the hostel. If you need a lift\, then get in touch with Jim and he will try to coordinate something. \nDates: October 24th 2025 – October 26th 2025. \nPlease get in touch with Paul Gale via the BMSCMC WhatsApp group in you need anymore information.
URL:https://bmscmc.org/event/snowdonia-2025-part-2/
LOCATION:Snowdonia National Park\, LL48 6LF\, United Kingdom
CATEGORIES:Trips
ATTACH;FMTTYPE=image/jpeg:https://bmscmc.org/wp-content/uploads/2025/01/52027379682_a84f81f7b4_c.jpg
END:VEVENT
END:VCALENDAR