BEGIN:VCALENDAR
VERSION:2.0
PRODID:-//BMSCMC - ECPv6.15.20//NONSGML v1.0//EN
CALSCALE:GREGORIAN
METHOD:PUBLISH
X-WR-CALNAME:BMSCMC
X-ORIGINAL-URL:https://bmscmc.org
X-WR-CALDESC:Events for BMSCMC
REFRESH-INTERVAL;VALUE=DURATION:PT1H
X-Robots-Tag:noindex
X-PUBLISHED-TTL:PT1H
BEGIN:VTIMEZONE
TZID:UTC
BEGIN:STANDARD
TZOFFSETFROM:+0000
TZOFFSETTO:+0000
TZNAME:UTC
DTSTART:20250101T000000
END:STANDARD
END:VTIMEZONE
BEGIN:VEVENT
DTSTART;VALUE=DATE:20260109
DTEND;VALUE=DATE:20260112
DTSTAMP:20260423T213611
CREATED:20250112T162211Z
LAST-MODIFIED:20250112T162211Z
UID:3420-1767916800-1768175999@bmscmc.org
SUMMARY:The Start of the Gritstone Season
DESCRIPTION:Info \nAs the Gritstone season kicks off again\, join us for a chance to get out now the good weather is returning. Plans to climb trad and boulder on the best crags\, following the best weather…\n\nServices\nEverything you need in Ashbourne or Buxton\, up or down the main road… If we are meeting on the Eastern Grit\, then shops in Hathersage and Castleton… Bank machines less available than you’d think…\n\nAccommodation\nStaying at YHA Ilam Hall\nYHA Ilam Hall Hostel | Cheap Dovedale\, Peak District Accommodation\n\nFood\nThe hostel has a shared kitchen and a full breakfast and evening meal service… It is remote so we tend to stay at the hostel.\n\nTransport\nHathersage is on the Sheffield to Manchester train line if we climb on the Eastern Grit. Ashbourne is the nearest transport hub to the hostel.  Get in touch with Jim if you need a lift and he’ll see if there is an option…\n\nDates\n9th to 11th January 2026.
URL:https://bmscmc.org/event/the-start-of-the-gritstone-season/
CATEGORIES:Trips
ATTACH;FMTTYPE=image/jpeg:https://bmscmc.org/wp-content/uploads/2025/01/Peak-3-scaled.jpg
END:VEVENT
END:VCALENDAR