BEGIN:VCALENDAR
VERSION:2.0
PRODID:-//BMSCMC - ECPv6.15.20//NONSGML v1.0//EN
CALSCALE:GREGORIAN
METHOD:PUBLISH
X-WR-CALNAME:BMSCMC
X-ORIGINAL-URL:https://bmscmc.org
X-WR-CALDESC:Events for BMSCMC
REFRESH-INTERVAL;VALUE=DURATION:PT1H
X-Robots-Tag:noindex
X-PUBLISHED-TTL:PT1H
BEGIN:VTIMEZONE
TZID:UTC
BEGIN:STANDARD
TZOFFSETFROM:+0000
TZOFFSETTO:+0000
TZNAME:UTC
DTSTART:20250101T000000
END:STANDARD
END:VTIMEZONE
BEGIN:VEVENT
DTSTART;VALUE=DATE:20260529
DTEND;VALUE=DATE:20260601
DTSTAMP:20260423T183532
CREATED:20250112T164036Z
LAST-MODIFIED:20250112T171250Z
UID:3433-1780012800-1780271999@bmscmc.org
SUMMARY:SNOWDONIA REVISITED 2026
DESCRIPTION:Info:\nJoin Paul on a trip to Snowdonia… multi-pitch trad\, scrambling and hill-walking all available. Something for everyone. Meet up either on the Friday night at YHA Ogwen cottage\, or\, alternatively meet at a pre-agreed crag Saturday morning. Climb/Walk/Scramble Saturday with various options for Sunday to either travel back early or get a cheeky route in before departure.This would be a good trip to attend if you are keen to develop your trad climbing on multi-pitch climbs. Please get in touch with Jim if you are keen. \nServices:\nBanks and food shops available in Betws y Coed and Bethesda on the road in. \nAccommodation:\nStaying at Idwal Cottage YHA… Details HERE. \nFood:\nProbably best to be self-sufficient but a there are plenty of pubs in the area. The hostel has kitchens. \nTransport:\nCar is easiest. Train links to Bangor and local buses out to the hostel. If you need a lift\, then get in touch with Jim and he will try to coordinate something. \nDates: May 29th – May 31st 2026 \nPlease get in touch with Paul Gale via the BMSCMC WhatsApp group in you need anymore information.
URL:https://bmscmc.org/event/snowdonia-revisited-2026/
LOCATION:Snowdonia National Park\, LL48 6LF\, United Kingdom
CATEGORIES:Trips
ATTACH;FMTTYPE=image/jpeg:https://bmscmc.org/wp-content/uploads/2025/01/51410672835_79a725bd8b_c.jpg
END:VEVENT
END:VCALENDAR