BEGIN:VCALENDAR
VERSION:2.0
PRODID:-//BMSCMC - ECPv6.15.20//NONSGML v1.0//EN
CALSCALE:GREGORIAN
METHOD:PUBLISH
X-WR-CALNAME:BMSCMC
X-ORIGINAL-URL:https://bmscmc.org
X-WR-CALDESC:Events for BMSCMC
REFRESH-INTERVAL;VALUE=DURATION:PT1H
X-Robots-Tag:noindex
X-PUBLISHED-TTL:PT1H
BEGIN:VTIMEZONE
TZID:UTC
BEGIN:STANDARD
TZOFFSETFROM:+0000
TZOFFSETTO:+0000
TZNAME:UTC
DTSTART:20160101T000000
END:STANDARD
END:VTIMEZONE
BEGIN:VEVENT
DTSTART;TZID=UTC:20180210T080000
DTEND;TZID=UTC:20180214T170000
DTSTAMP:20260425T162240
CREATED:20171009T145409Z
LAST-MODIFIED:20171009T145503Z
UID:1571-1518249600-1518627600@bmscmc.org
SUMMARY:Maria’s Scottish Winter Mountaineering Trip 2018
DESCRIPTION:ravel up on Saturday 10th Feb or Sunday 11th February and stay 3 or 4 nights\, leaving on Wednesday 14th Feb 2018. \nStaying at Aviemore SYHA Map ref OS 36 (GR893119) telephone no: 01479 810 345 email: aviemore@syha.org.uk \nPlans are to climb in Coire an t-Sneachda\, Coire na Lochain and Hell’s Lum – there are plenty of Grade 1 and 2 climbs\, so good introductory climbs and lots to push the grade. Some big Grade 3\, 4 and 5s as well\, so good stuff for the bold. The walk-ins are quite easy\, a drive up to Cairngorm car park\, then about 1 to 2 hour walk in on reasonably easy ground for the nearest routes. \nThe hostel has kitchens and you can bring your own food. Plenty of shops in Aviemore to buy food if you need to. The Skiing Doo is the cheap bar/restaurant we will go to during the trip and we normally finish off with a big night out at one of the hotel restaurants on the last night (Tuesday). \nFor those who are keen\, book yourselves in to the Hostel and then arrange a lift.\nYou cannot miss this trip!\nMaria.
URL:https://bmscmc.org/event/marias-scottish-winter-mountaineering-trip-2018/
LOCATION:Aviemore\, PH22 1PR\, United Kingdom
CATEGORIES:Trips
END:VEVENT
BEGIN:VEVENT
DTSTART;TZID=UTC:20180113T080000
DTEND;TZID=UTC:20180114T170000
DTSTAMP:20260425T162240
CREATED:20180109T141900Z
LAST-MODIFIED:20180115T071215Z
UID:1899-1515830400-1515949200@bmscmc.org
SUMMARY:Kullaberg\, Sweden - January 13th-14th 2018
DESCRIPTION:Jim and Michael traveling over to Kullaberg in Sweden on Saturday morning.  Plans to climb all day and stay at the DBKK Hut.  Climb Sunday morning and return Sunday afternoon or early evening.  If you want to come along\, let Jim know.  We’ll be cooking at the hut and brining all the food with us.  No services at the hut\, so bring anything you need along.
URL:https://bmscmc.org/event/kullaberg-sweden-january-13th-14th-2018/
LOCATION:Kullaberg\, Sweden\, Kullaberg\, Höganäs\, 263 77\, Sweden
CATEGORIES:Trips
END:VEVENT
BEGIN:VEVENT
DTSTART;VALUE=DATE:20171227
DTEND;VALUE=DATE:20171228
DTSTAMP:20260425T162240
CREATED:20171222T064951Z
LAST-MODIFIED:20180115T071124Z
UID:1883-1514332800-1514419199@bmscmc.org
SUMMARY:Ali & Dave's Christmas Hike
DESCRIPTION:The hiking division  will depart for its annual Christmas saunter on Wednesday 27th December.\n\nCome and join us for some post Christmas turkey carb off-loading and a winter stroll in the Peak district.  We’ll aim to do 7-9 miles departing at 9am from a location to be confirmed and finishing in a Derbyshire hostelry by 4pm. (The route & start point will be decided the day before & is subject to weather conditions).   Departure at 8am from Nottingham.\n\nEnjoy sumptuous views\, stimulating conversation and feasting on seasonal survival snacks: ).  This year\, the hiking division has doubled its numbers and  are  going out in force as a group of 5. Don’t delay\, book your place today!
URL:https://bmscmc.org/event/ali-daves-christmas-hike/
LOCATION:Hathersage S32 1DD\, Hathersage\, S32 1DD\, United Kingdom
CATEGORIES:Trips
END:VEVENT
BEGIN:VEVENT
DTSTART;TZID=UTC:20171015T100000
DTEND;TZID=UTC:20171017T170000
DTSTAMP:20260425T162240
CREATED:20171009T134342Z
LAST-MODIFIED:20171009T134342Z
UID:1567-1508061600-1508259600@bmscmc.org
SUMMARY:Ché’s Autumnal Wainwright Wanders
DESCRIPTION:Join Ché\, Dave\, Andrew and Jim on an autumnal wainwright wander.  Staying at Windermere YHA on the Sunday night and Coniston Coppermines YHA on the Monday night.  The vauge plan\, weather permitting\, is to walk the Kentmere Horseshoe on the Sunday so meeting at Kentmere at 10am.  If you fancy joining us on this then please get in touch in the case the plan changes.  If not meet at Windermere YHA on the Sunday night.  Dave and Jim plan to climb Giant’s Crawl at some point.  So Autumn\, Wainwrights\, Climbing\, Drinking and cheap beds!! \nHopefully see you in the lakes!
URL:https://bmscmc.org/event/ches-autumnal-wainwright-wanders/
LOCATION:Windermere & Coniston Coppermines YHA\, Bridge lane\, Troutbeck Bridge\,\, Windermere\, LA23 1LA\, United Kingdom
CATEGORIES:Trips
END:VEVENT
END:VCALENDAR