BEGIN:VCALENDAR
VERSION:2.0
PRODID:-//BMSCMC - ECPv6.15.20//NONSGML v1.0//EN
CALSCALE:GREGORIAN
METHOD:PUBLISH
X-WR-CALNAME:BMSCMC
X-ORIGINAL-URL:https://bmscmc.org
X-WR-CALDESC:Events for BMSCMC
REFRESH-INTERVAL;VALUE=DURATION:PT1H
X-Robots-Tag:noindex
X-PUBLISHED-TTL:PT1H
BEGIN:VTIMEZONE
TZID:UTC
BEGIN:STANDARD
TZOFFSETFROM:+0000
TZOFFSETTO:+0000
TZNAME:UTC
DTSTART:20160101T000000
END:STANDARD
END:VTIMEZONE
BEGIN:VEVENT
DTSTART;VALUE=DATE:20180919
DTEND;VALUE=DATE:20180920
DTSTAMP:20260425T120345
CREATED:20180909T191258Z
LAST-MODIFIED:20180909T191454Z
UID:2043-1537315200-1537401599@bmscmc.org
SUMMARY:Smith & Buckley Hard Rock/Classic Rock
DESCRIPTION:Basically weather permitting me and James are planning a day run to bag The groove E1 5B hard rock and then Main Wall HS 4B classic rock. All being well arrive around 8am\, park up and walk in to get on the Groove first. If that goes well try and tick Main Wall to. \nA day trip only. \nmy number 07930256647 if anyone wants to join but must have a climbing partner.
URL:https://bmscmc.org/event/smith-buckley-hard-rock-classic-rock/
CATEGORIES:Trips
ATTACH;FMTTYPE=image/jpeg:https://bmscmc.org/wp-content/uploads/2018/09/Line-of-The-Groove-in-Shadow.jpg
ORGANIZER;CN="David Smith":MAILTO:smit501@hotmail.co.uk&gt;
END:VEVENT
BEGIN:VEVENT
DTSTART;TZID=UTC:20180914T190000
DTEND;TZID=UTC:20180916T180000
DTSTAMP:20260425T120345
CREATED:20180716T081107Z
LAST-MODIFIED:20180716T081306Z
UID:2009-1536951600-1537120800@bmscmc.org
SUMMARY:Che's Postponed Borrowdale Trip
DESCRIPTION:This trip was all ready to go two years ago when Che took a leader fall and knackered his ankle. The aim is to have a day at Shepherd’s Crag\, including an ascent of Little Chamonix\, and also a day at Black Crag to try Troutdale Pinnacle. Both are Classic Rock routes. For walkers and scramblers\, there’s plenty to occupy you in Borrowdale. Three of us are already booked into the Borrowdale Youth Hostel and hope that some of you can join us. \nAccommodation: YHA Borrowdale Youth Hostel\, Keswick\, Cumbria\, CA12 5XE \nPhone: 03453719624 \nEmail: borrowdale@yha.org.uk \nOS Maps: 89 or 90 \nOS Grid Ref.: NY254142 \nBook on-line at https://www.yha.org.uk/hostel/yha-borrowdale \nThe hostel has a bar\, serves breakfast and evening meals\, and has free wi-fi. Besides the usual selection of rooms\, camping is available and they also have glamping pods. \nAmenities/Food: You have to pass through Keswick to get to the hostel\, and that’s the best place to stop for food and any gear you need. \nTransport: We will drive up to the Lakes on Friday after work and leave late on Sunday afternoon. Lifts might be available\, so please get in contact of you’re thinking of coming. \nFor more info email Andrew at avicm1954@gmail.com (Che’s email currently out of action)
URL:https://bmscmc.org/event/ches-postponed-borrowdale-trip/
CATEGORIES:Trips
ATTACH;FMTTYPE=image/jpeg:https://bmscmc.org/wp-content/uploads/2018/07/1.2.jpg
END:VEVENT
BEGIN:VEVENT
DTSTART;TZID=UTC:20180907T180000
DTEND;TZID=UTC:20180909T170000
DTSTAMP:20260425T120345
CREATED:20180628T142814Z
LAST-MODIFIED:20180628T145533Z
UID:1981-1536343200-1536512400@bmscmc.org
SUMMARY:BMC Gower Climbing Festival 2018
DESCRIPTION:The annual BMC Meet in Gower is a great opportunity to join other climbers and walkers at a beautiful venue in South Wales. Dave G and Andrew attended two years ago and had a great time. There will be some skills workshops for adults and for children\, and a speaker and climbing pub quiz on Saturday evening. The BMC team cook breakfast on the campsite in the morning to raise funds for the South Wales Bolt Fund and local Rescue organisations. If you want to join us\, just book into the campsite and mention the BMC. A separate field is set aside for the Festival. Andrew will be arriving early and will reserve you a pitch if you ask. \nIf you want a better idea of what to expect\, have a look at the many photos on our Flickr pages and read the trip reports below. \nThe report of our last visit to the BMC festival is here: https://bmscmc.org/2016/09/09/bmc-gower-climbing-festival-september-2016/ \nThe report of the club’s August 2017 visit is here: https://bmscmc.org/2018/05/15/gower-august-2017/ \nEmail: avicm1954@gmail.com \nAccomodation: Pitton Cross Caravan and Camping Park\, Rhossili\, Gower\, Swansea SA3 1PT \nBook on-line at http://www.pittoncross.co.uk/ or phone them at 017932 390 593. The site is reasonably priced and won a Best Site in Wales award last year. \nAmenities: There is a good shop at the campsite\, but it is a good idea to bring essential supplies with you\, as other shops are some distance from the campsite. Top up food and fuel as you pass through Swansea. Late meal on Friday available from the Worm’s Head Hotel\, Rhossili. Saturday evening fun at Monksland\, Scurlage. \nMeet: Andrew will arrive early on Friday afternoon to set up camp. Text on 07811463999. Phone and internet coverage on Gower is patchy.
URL:https://bmscmc.org/event/bmc-gower-climbing-festival-2018/
LOCATION:Pitton Cross Caravan and Camping Park\, Gower\, Swansea\, SA3 1PT\, United Kingdom
CATEGORIES:Trips
ATTACH;FMTTYPE=image/jpeg:https://bmscmc.org/wp-content/uploads/2018/06/Gower-Festival.jpg
END:VEVENT
BEGIN:VEVENT
DTSTART;TZID=UTC:20180803T080000
DTEND;TZID=UTC:20180807T170000
DTSTAMP:20260425T120345
CREATED:20180516T060503Z
LAST-MODIFIED:20180522T060600Z
UID:1932-1533283200-1533661200@bmscmc.org
SUMMARY:Jim’s Trip to the Jotunheimen August 2018
DESCRIPTION:An attempt on the highest mountain in Norway\, Galdhopiggen (2469m) taking the northern approach via the Styggebrean Glacier (F). \nMicheal and Jim plan to drive up from Kobenhavn on early on Friday morning\, 03.08.2018 to arrive at the hut for a late lunchtime on Friday. Spend Friday relaxing then an early ascent Saturday morning\, taking in the summit and descent back to the hut. Lunch at the hut then a drive south to the fatherland. \nThe mountain lies in the heart of Norway equidistant from Oslo\, Bergen and Trondheim. Lom is the gateway town for Jotunheimen. Nor-Way has about five buses a day from Oslo which go via Oslo Gardermoen airport. NSB have trains from Oslo to Otto from where there are connecting buses to make the short ride to Lom. Bus times coordinate with train arrival times. From Oslo take the E6 to Otta (308km) then Road 15 to Lom (64km). From Lom take Highway 55 (Sognefjell Mountain Road) and then turn off for either Spiterstulen\, Juvashytta\, or Leirvassbu (for Geitsætre). All are sign-posted. In the summer there are buses that travel along Highway 55 between Lom and Sogndal. \nAccommodation is at the DNT hut Juvashytte (1840). Details available here https://www.ut.no/hytte/3.2380/ \nServices available in the towns listed include shops and banks… Otta and Lillehammer. If you are flying in and travelling by public transport\, then you need to source all resources prior to arrival. \nTo join us on this trip\, you need to be competent at glacier travel\, mountain navigation and have all round Alpine experience. We will be able to fit a competent 4th person onto the rope with the right skills. However\, other than that\, you will be in a team of three. We will join you on the ascent but you need to be safe for yourselves in all aspects of glacier travel and mountaineering. \nAndrew\, Michael\, and Jim will stay in the area for some additional summits and plan to stop off for some Swedish granite climbing on the way back to Copenhagen.  Plans will be a bit fluid\, but members may want to join us for additional climbing.
URL:https://bmscmc.org/event/jims-trip-to-the-jotunheimen-august-2018/
LOCATION:Jotunheimen\, Raubergstulsvegen\, Lom\, 2686\, Norway
CATEGORIES:Trips
ATTACH;FMTTYPE=image/jpeg:https://bmscmc.org/wp-content/uploads/2018/05/AD-800.jpg
END:VEVENT
BEGIN:VEVENT
DTSTART;TZID=UTC:20180727T080000
DTEND;TZID=UTC:20180729T170000
DTSTAMP:20260425T120345
CREATED:20180720T055227Z
LAST-MODIFIED:20180720T055657Z
UID:2013-1532678400-1532883600@bmscmc.org
SUMMARY:Dave's Family Weekend in Wales
DESCRIPTION:Me\, family and the Fire truck will be meeting James Buckley and his family for a mixed weekend of climbing and walking depending how people feel and the conditions with maybe a spicy route or Two. Depending on numbers we could visit a pub Saturday night. \nAccommodation: Camping at http://www.tryfanwales.co.uk/
URL:https://bmscmc.org/event/davids-family-weekend-in-wales/
CATEGORIES:Trips
ATTACH;FMTTYPE=image/jpeg:https://bmscmc.org/wp-content/uploads/2018/07/tryfan-2.jpg
ORGANIZER;CN="David Smith":MAILTO:smit501@hotmail.co.uk&gt;
END:VEVENT
BEGIN:VEVENT
DTSTART;TZID=UTC:20180723T080000
DTEND;TZID=UTC:20180725T170000
DTSTAMP:20260425T120345
CREATED:20180616T190100Z
LAST-MODIFIED:20180616T190148Z
UID:1972-1532332800-1532538000@bmscmc.org
SUMMARY:Jim and Eddie's "Follow the Weather" UK trip
DESCRIPTION:Description:  Jim and Eddie are meeting at Manchester Airport and plan to “follow the weather.”  The options include single pitch in the Peak District or multi-pitch in Wales. \nTo be a part of this trip\, you may need to operate as an independent two.  Although\, contact Jim as there may be room in the car. \nAccommodation:  Bivvying or camping\, or possibly bunk houses.  Services depend where we are\, but we’ll be passing through towns with all services. \nMeetup:  At Manchester Airport at 11:35am on Monday\, July 23. \nContact Jim or Eddie if you want to be a part of it! \n  \n  \n 
URL:https://bmscmc.org/event/jim-and-eddies-follow-the-weather-uk-trip/
LOCATION:Peak District\, S32 1BR\, United Kingdom
CATEGORIES:Trips
ATTACH;FMTTYPE=image/jpeg:https://bmscmc.org/wp-content/uploads/2018/06/Stanage-Edge.jpg
END:VEVENT
BEGIN:VEVENT
DTSTART;TZID=UTC:20180629T080000
DTEND;TZID=UTC:20180701T170000
DTSTAMP:20260425T120345
CREATED:20180616T185402Z
LAST-MODIFIED:20180616T185407Z
UID:1968-1530259200-1530464400@bmscmc.org
SUMMARY:Ché’s Summer Wainwrights
DESCRIPTION:Description:  Predominately a walking trip to bag some Wainwrights in the best of the summer weather!!!  No plan except meet on the Friday night\, drink and discuss what to do over the next few days.  Ché and Smokey Dave wont be climbing as with their respective partners\, but if others wish to get routes in Borrowdale is very close. \nHope to see you there! \nChé  \nc.binder1@sky.com \nAccommodation: Braithwaite Bridges Campsite (This is across the A66 from the Scotgate holiday park) or alternatively pubs (Middle Ruddings and Royal Oak have rooms) in Braithwaite. \nAddress: Scotgate Holiday Park\, Braithwaite\, Keswick\, Cumbria\, CA12 5TF +44 (0) 17687 78343 info@scotgateholidaypark.co.uk \nAmmenities Keswick (2 miles)\, Shops and pubs in Braithwaite. \nMeet: On the Friday at 7.00 at the Middle Ruddings Pub.
URL:https://bmscmc.org/event/ches-summer-wainwrights/
LOCATION:Scotgate Holiday Park\, CA12 5TF\, United Kingdom
ATTACH;FMTTYPE=image/jpeg:https://bmscmc.org/wp-content/uploads/2018/06/borrowdale-0525_1.jpg
END:VEVENT
BEGIN:VEVENT
DTSTART;TZID=UTC:20180625T080000
DTEND;TZID=UTC:20180629T170000
DTSTAMP:20260425T120345
CREATED:20180628T060055Z
LAST-MODIFIED:20180628T060057Z
UID:1978-1529913600-1530291600@bmscmc.org
SUMMARY:Lorenz and Jim’s Swiss Alp Trip
DESCRIPTION:Jim and Lorenz are planning to meet up at Zurich on the 25th June and travel to the mountains following the best weather and conditions. We will operate as an independent team of two\, but if you are in country and climbing then get in touch and we may meet up… at least at a hut.
URL:https://bmscmc.org/event/lorenz-and-jims-swiss-alp-trip/
CATEGORIES:Trips
ATTACH;FMTTYPE=image/jpeg:https://bmscmc.org/wp-content/uploads/2018/06/23192.jpg
END:VEVENT
BEGIN:VEVENT
DTSTART;TZID=UTC:20180510T080000
DTEND;TZID=UTC:20180513T170000
DTSTAMP:20260425T120345
CREATED:20171009T150123Z
LAST-MODIFIED:20171009T150123Z
UID:1579-1525939200-1526230800@bmscmc.org
SUMMARY:The Club’s Memorial Trip for Jon… and the Trip to Snowdonia we all remember…
DESCRIPTION:A chance to stay at Idwal\, climb in Ogwen and Llanberis and for the Club to say goodbye to Jon\, in our own way… \nSome of us will arrive on Thursday\, and climb local to the hostel on Thursday afternoon. Friday is a day for any Club members to get on the rock together. Saturday morning will be spent at Little Tryfan (Tryfan Fach) to climb a crag close to Jon’s heart… His first Welsh climbs\, first multi-pitch experiences and where he first trained for his subsequent Alpine adventures… And a venue he came back to on many occasions with his family. \nJon’s Friends \nAny of Jon’s friends are invited to join us climbing on this morning.. and you are more than welcome to join us socially for the whole of the trip. We will do our best to share a rope and lead you up a climb that Jon climbed in his days with the Club. These climbs are very accessible but may be couple of hundred feet high (though don’t have to be). The venue is easy to access from the bottom and easy to walk off the top.To those who join us on this day who are not members of the Club\, we will manage you to the best of our abilities… which are plentiful\, but please accept that you are responsible for yourself and your family at all times\, if you join us. Please make sure you make your own judgments about what you choose to do\, at all times… \nFor any friends of Jon\, please email Jim so he can sort equipment\, ropes and lead climbers for your climb… If there are any Club members who are happy to help on Saturday and are willing to make a commitment to attend\, either managing a lead or a top rope\, then it would be great to know by email also please. Thanks for this… We want Jon’s friends to see him as we did\, and we want his friends to see the Club as we are\, and this helps. \nClimbing \nPlenty to go at for the Club…learn to climb on Little Tryfan\, big routes on Idwal Slabs\, Milestone Buttress\, the East Face of Tryfan\, the North Face of Glyder Fach\, Suicide Wall and the Kitchen. Further afield\, the Llanberis Pass\, the Snowdon Buttresses or the Carneddeau. \nFor walkers\, plenty of low\, medium and high level routes and scrambles for all ages and abilities. We can suggest walks of all grades. \nFamilies \nFor families\, plenty to keep the kids amused\, from caves and mines to steam engines\, forest paths to mountain biking\, the longest zip wire in the UK\, an underground trampoline with disco lights (highly recommended) or some of the best tea shops in North Wales. \nSame rules as ever\, book yourselves in then sort transport and we will see you there. \nFood and Accommodation  \nFood: Eat and drink at the hostel is the easiest option\, or camp site if you have booked in there. \nJim and Melanie to arrange a cooked meal for all those of us staying at the hostel on the Saturday evening. Please let us know if you are staying there and want to be a part of this. We want you to be\, Club members\, and friends included. \nAccommodation: Hostel accommodation or camping at Idwal YHA (limited! camping just outside the Hostel\, half the price and get to use all the facilities) \, 0845 3719744 http://www.yha.org.uk/hostel/idwal or camping at Gwern Gof Uchaf\, http://www.tryfanwales.co.uk/ (camp site up the valley – nearer to the climbing but less fun). \nShops: At Bethesda\, free cash withdrawals at Tesco Express-Petrol or Betws-y-Coed\, which has multiple services.
URL:https://bmscmc.org/event/the-clubs-memorial-trip-for-jon-and-the-trip-to-snowdonia-we-all-remember/
LOCATION:Idwal Cottage\, Nant Ffrancon\, Bethesda\, LL57 3LZ\, United Kingdom
CATEGORIES:Trips
END:VEVENT
BEGIN:VEVENT
DTSTART;TZID=UTC:20180420T180000
DTEND;TZID=UTC:20180422T180000
DTSTAMP:20260425T120345
CREATED:20180107T075359Z
LAST-MODIFIED:20180115T070758Z
UID:1889-1524247200-1524420000@bmscmc.org
SUMMARY:AGM at Stoney Middleton 2018
DESCRIPTION:The Club’s 2017-18 AGM will be held at the Carlswark Cottage in Stoney Middleton\, the same as last year. The hut belongs to the Derbyshire Pennine Club and will provide a great base for getting out climbing or hiking in the peak district over the course of the weekend. Crags such as Froggatt and Birchen are only a five minutes drive away\, as well as some limestone crags within walking distance of the hut. Details on the hut itself can be found here: http://www.thedpc.co.uk/hut \nWe have booked the hut from Friday 20th April to Sunday 22nd April but there are limited bed spaces so if you want to come along then do get in touch to reserve your spot. Avoid disappointment and get booked in early. \nCommunal food will be included for arrival on the Friday night\, breakfast on the Saturday and Sunday mornings as well as snacks etc. for the rest of the stay. The total cost per person for the weekend\, including the accommodation and food\, is £30. \nOn the Saturday evening we will hold the Club’s AGM in the hut and then go to the local pub for food to celebrate the year’s mountaineering adventures and plan for the next lot… \nThe usual local amenities of cash point\, shop and petrol station are a short drive from the hut that has parking adjacent to it. \nDon’t hesitate to get in touch if you have any questions or queries. \nHope to see you all there.
URL:https://bmscmc.org/event/agm-at-stoney-middleton-2018/
LOCATION:Carlswark Cottage (DPC Hut)\, Stoney Middleton\, S32 4TN\, United Kingdom
CATEGORIES:Trips
ORGANIZER;CN="Dave Gent":MAILTO:davegent7@gmail.com
END:VEVENT
BEGIN:VEVENT
DTSTART;TZID=UTC:20180324T080000
DTEND;TZID=UTC:20180328T170000
DTSTAMP:20260425T120345
CREATED:20171009T145929Z
LAST-MODIFIED:20171009T145929Z
UID:1575-1521878400-1522256400@bmscmc.org
SUMMARY:Jim’s Trip to Fountainbleau
DESCRIPTION:The forest of Fountainbleau is the ‘alchemy of everything the boulderer holds dear: physicality\, technique\, attractive stone\, variety\, solitude\, landscape and cheap wine’  I rest my case… \nArrive Saturday 24.03.2017 and depart Wednesday 28.03.2017\, with a view to start climbing in the Trois Pignons area on the first day (walking distance from campsite)\, and then take it from there dependent on conditions… \nAccommodation \nCampsite at: La Musardiere\, 91490 Milly La Foret\, Ile-de-France. They don’t appear to have a website but contact details are found here… http://www.campingfrance.com/uk/find-your-campsite/ile-de-france/essonne/milly-la-foret/la-musardiere \nServices \nThe town of Milly La Foret has supermarkets and pharmacies. There are also 3 banks. The campsite is well organised and has a shop and a swimming pool. As this is France\, service availability and service opening times can offer a challenge to the Brit abroad… or the Dane for that matter. \nClimbing \nStart at the Trois Pignons area and then take it from there… Several thousand bouldering problems to go at… bring a bouldering mat.
URL:https://bmscmc.org/event/jims-trip-to-fountainbleau/
LOCATION:La Musardiere\, Milly La Foret\, Ile-de-France\, Milly La Foret\, Ile-de-France\, 91490\, France
CATEGORIES:Trips
END:VEVENT
BEGIN:VEVENT
DTSTART;TZID=UTC:20180210T080000
DTEND;TZID=UTC:20180214T170000
DTSTAMP:20260425T120345
CREATED:20171009T145409Z
LAST-MODIFIED:20171009T145503Z
UID:1571-1518249600-1518627600@bmscmc.org
SUMMARY:Maria’s Scottish Winter Mountaineering Trip 2018
DESCRIPTION:ravel up on Saturday 10th Feb or Sunday 11th February and stay 3 or 4 nights\, leaving on Wednesday 14th Feb 2018. \nStaying at Aviemore SYHA Map ref OS 36 (GR893119) telephone no: 01479 810 345 email: aviemore@syha.org.uk \nPlans are to climb in Coire an t-Sneachda\, Coire na Lochain and Hell’s Lum – there are plenty of Grade 1 and 2 climbs\, so good introductory climbs and lots to push the grade. Some big Grade 3\, 4 and 5s as well\, so good stuff for the bold. The walk-ins are quite easy\, a drive up to Cairngorm car park\, then about 1 to 2 hour walk in on reasonably easy ground for the nearest routes. \nThe hostel has kitchens and you can bring your own food. Plenty of shops in Aviemore to buy food if you need to. The Skiing Doo is the cheap bar/restaurant we will go to during the trip and we normally finish off with a big night out at one of the hotel restaurants on the last night (Tuesday). \nFor those who are keen\, book yourselves in to the Hostel and then arrange a lift.\nYou cannot miss this trip!\nMaria.
URL:https://bmscmc.org/event/marias-scottish-winter-mountaineering-trip-2018/
LOCATION:Aviemore\, PH22 1PR\, United Kingdom
CATEGORIES:Trips
END:VEVENT
BEGIN:VEVENT
DTSTART;TZID=UTC:20180113T080000
DTEND;TZID=UTC:20180114T170000
DTSTAMP:20260425T120345
CREATED:20180109T141900Z
LAST-MODIFIED:20180115T071215Z
UID:1899-1515830400-1515949200@bmscmc.org
SUMMARY:Kullaberg\, Sweden - January 13th-14th 2018
DESCRIPTION:Jim and Michael traveling over to Kullaberg in Sweden on Saturday morning.  Plans to climb all day and stay at the DBKK Hut.  Climb Sunday morning and return Sunday afternoon or early evening.  If you want to come along\, let Jim know.  We’ll be cooking at the hut and brining all the food with us.  No services at the hut\, so bring anything you need along.
URL:https://bmscmc.org/event/kullaberg-sweden-january-13th-14th-2018/
LOCATION:Kullaberg\, Sweden\, Kullaberg\, Höganäs\, 263 77\, Sweden
CATEGORIES:Trips
END:VEVENT
BEGIN:VEVENT
DTSTART;VALUE=DATE:20171227
DTEND;VALUE=DATE:20171228
DTSTAMP:20260425T120345
CREATED:20171222T064951Z
LAST-MODIFIED:20180115T071124Z
UID:1883-1514332800-1514419199@bmscmc.org
SUMMARY:Ali & Dave's Christmas Hike
DESCRIPTION:The hiking division  will depart for its annual Christmas saunter on Wednesday 27th December.\n\nCome and join us for some post Christmas turkey carb off-loading and a winter stroll in the Peak district.  We’ll aim to do 7-9 miles departing at 9am from a location to be confirmed and finishing in a Derbyshire hostelry by 4pm. (The route & start point will be decided the day before & is subject to weather conditions).   Departure at 8am from Nottingham.\n\nEnjoy sumptuous views\, stimulating conversation and feasting on seasonal survival snacks: ).  This year\, the hiking division has doubled its numbers and  are  going out in force as a group of 5. Don’t delay\, book your place today!
URL:https://bmscmc.org/event/ali-daves-christmas-hike/
LOCATION:Hathersage S32 1DD\, Hathersage\, S32 1DD\, United Kingdom
CATEGORIES:Trips
END:VEVENT
BEGIN:VEVENT
DTSTART;TZID=UTC:20171015T100000
DTEND;TZID=UTC:20171017T170000
DTSTAMP:20260425T120345
CREATED:20171009T134342Z
LAST-MODIFIED:20171009T134342Z
UID:1567-1508061600-1508259600@bmscmc.org
SUMMARY:Ché’s Autumnal Wainwright Wanders
DESCRIPTION:Join Ché\, Dave\, Andrew and Jim on an autumnal wainwright wander.  Staying at Windermere YHA on the Sunday night and Coniston Coppermines YHA on the Monday night.  The vauge plan\, weather permitting\, is to walk the Kentmere Horseshoe on the Sunday so meeting at Kentmere at 10am.  If you fancy joining us on this then please get in touch in the case the plan changes.  If not meet at Windermere YHA on the Sunday night.  Dave and Jim plan to climb Giant’s Crawl at some point.  So Autumn\, Wainwrights\, Climbing\, Drinking and cheap beds!! \nHopefully see you in the lakes!
URL:https://bmscmc.org/event/ches-autumnal-wainwright-wanders/
LOCATION:Windermere & Coniston Coppermines YHA\, Bridge lane\, Troutbeck Bridge\,\, Windermere\, LA23 1LA\, United Kingdom
CATEGORIES:Trips
END:VEVENT
END:VCALENDAR