BEGIN:VCALENDAR
VERSION:2.0
PRODID:-//BMSCMC - ECPv6.15.20//NONSGML v1.0//EN
CALSCALE:GREGORIAN
METHOD:PUBLISH
X-WR-CALNAME:BMSCMC
X-ORIGINAL-URL:https://bmscmc.org
X-WR-CALDESC:Events for BMSCMC
REFRESH-INTERVAL;VALUE=DURATION:PT1H
X-Robots-Tag:noindex
X-PUBLISHED-TTL:PT1H
BEGIN:VTIMEZONE
TZID:UTC
BEGIN:STANDARD
TZOFFSETFROM:+0000
TZOFFSETTO:+0000
TZNAME:UTC
DTSTART:20230101T000000
END:STANDARD
END:VTIMEZONE
BEGIN:VEVENT
DTSTART;VALUE=DATE:20240614
DTEND;VALUE=DATE:20240617
DTSTAMP:20260425T183346
CREATED:20240304T165014Z
LAST-MODIFIED:20240304T165835Z
UID:3261-1718323200-1718582399@bmscmc.org
SUMMARY:Kernow 2024
DESCRIPTION:Info: The plan is as follows but is subject to change… \nDrive down on Friday evening and leave on the Sunday after climbing all weekend. Climb in the South West area\, around the classics in Sennen\, Chair Ladder and Bosigran all day Saturday. \nThen on Sunday drive home diverting to Roche Rock. This crag is an outcrop of rock with ruins of a Gothic chapel built on top with an altered granite rock type with ‘gritstone-like friction.’ Grades ranging from D – E4! \n  \nAccommodation: Probably at YHA Land’s End\, (St Just-in-Penwith\, Cornwall\, TR19 7NT). Hostel rooms\, bell tents\, camping pods and camping are all options. It is relatively close to the saturday climbing crags. \nYHA Land’s End \nhttps://www.yha.org.uk/hostel/yha-lands-end \n  \nFood: The choice is yours\, bring your own\, takeaway\, or eat in somewhere. Everything is up in the air at the moment. \n  \nTransport: Unfortunately\, car is the only way. There’s not much in terms of public transport in deepest darkest Kernow. \n  \nServices: Not a lot so bring what you need. \n  \nView the photos from the last Cornwall trip here:
URL:https://bmscmc.org/event/kernow-2024/
LOCATION:cornwall\, Morvah\, Penzance\, TR20 8YX\, United Kingdom
CATEGORIES:Trips
ATTACH;FMTTYPE=image/jpeg:https://bmscmc.org/wp-content/uploads/2024/03/52951173248_5af0f9831b_o.jpg
END:VEVENT
BEGIN:VEVENT
DTSTART;VALUE=DATE:20240629
DTEND;VALUE=DATE:20240630
DTSTAMP:20260425T183346
CREATED:20240328T172915Z
LAST-MODIFIED:20240328T173001Z
UID:3277-1719619200-1719705599@bmscmc.org
SUMMARY:Devon Family Bouldering Trip
DESCRIPTION:Information\nJoin Jim and the new Devon Bouldering Guide on a trip to Bonehill Rocks… arguably the crag that spawned the development of modern bouldering in Dartmoor… It has a very short walk in and a high concentration of classic problems. Other nearby venues include Bell Tor\, Honeybag Tor and Hound Tor… So\, lots to go at.\nI am bringing some teenage family members/and friends so will only be attending for the day… Arrive at the parking about 09:30 with a plan to leave around 16:00… Possible visit to one of the other nearby crags in the afternoon.\n\n\n\n\n\n\nServices\nVery little locally although there are a few cafes at Widecombe in the Moor. Probably best to bring everything you need.\n\n\n\n\n\n\nAccommodation\nWe are not staying…\n\n\n\n\n\n\nFood\nPack your lunch!\n\n\n\n\n\n\nTransport\nCar is the best… If you need a lift\, then get in touch with Jim and he’ll try to link you up with someone. \n\n\n\n\n\n\nItinerary\nArrive at the car park at about 09:30 to climb for the day with a plan to leave about 16:00… Possible visit to one of the other nearby venues in the afternoon… \n\n\n\n\n\n\nDates\nSaturday 29th June\n\n\n \n\n\n\nLocation \nBonehill Rock Car Park (there are three of them so we will try the first one travelling west). \n\n\n \n\n\n\nOrganiser\n\nJim McCall
URL:https://bmscmc.org/event/devon-family-bouldering-trip/
LOCATION:Dartmoor\, Dartmoor National Park\, United Kingdom
CATEGORIES:Trips
ATTACH;FMTTYPE=image/jpeg:https://bmscmc.org/wp-content/uploads/2024/03/Dartmoor-Bouldering.jpg
END:VEVENT
END:VCALENDAR