BEGIN:VCALENDAR
VERSION:2.0
PRODID:-//BMSCMC - ECPv6.15.20//NONSGML v1.0//EN
CALSCALE:GREGORIAN
METHOD:PUBLISH
X-ORIGINAL-URL:https://bmscmc.org
X-WR-CALDESC:Events for BMSCMC
REFRESH-INTERVAL;VALUE=DURATION:PT1H
X-Robots-Tag:noindex
X-PUBLISHED-TTL:PT1H
BEGIN:VTIMEZONE
TZID:UTC
BEGIN:STANDARD
TZOFFSETFROM:+0000
TZOFFSETTO:+0000
TZNAME:UTC
DTSTART:20240101T000000
END:STANDARD
END:VTIMEZONE
BEGIN:VEVENT
DTSTART;VALUE=DATE:20250412
DTEND;VALUE=DATE:20250414
DTSTAMP:20260424T142043
CREATED:20250112T170120Z
LAST-MODIFIED:20250112T170120Z
UID:3439-1744416000-1744588799@bmscmc.org
SUMMARY:Dartmoor Trad\, Bouldering & wild camping
DESCRIPTION:Meet up Saturday morning at 09:00 at Houndtour. Spend the morning trad climbing and bouldering. \nServices:\nBovey Tracey has banks and shops and is a convenient stop off on the way over the Moors… Bovey is the self-appointed ‘Gateway of the Moors’ and will provide all the necessaries… \nAccommodation:\nSome of those in the South West may treat this as an extended day trip but for those that want to stay over… We are planning to bivvy overnight Saturday. The National Park normally publishes a map to wild camping and local restrictions\, including camping 100m from the road and not in sight of any buildings. \nFood:\nBetter bring your own and be self-sufficient but pub options are available. \nTransport:\nCars is the best plan. Public transport doesn’t really exist on the moors.
URL:https://bmscmc.org/event/dartmoor-trad-bouldering-wild-camping/
LOCATION:Dartmoor\, Dartmoor National Park\, United Kingdom
CATEGORIES:Trips
ATTACH;FMTTYPE=image/jpeg:https://bmscmc.org/wp-content/uploads/2025/01/48967755432_5a50a3600a_c.jpg
END:VEVENT
END:VCALENDAR