BEGIN:VCALENDAR
VERSION:2.0
PRODID:-//BMSCMC - ECPv6.15.20//NONSGML v1.0//EN
CALSCALE:GREGORIAN
METHOD:PUBLISH
X-ORIGINAL-URL:https://bmscmc.org
X-WR-CALDESC:Events for BMSCMC
REFRESH-INTERVAL;VALUE=DURATION:PT1H
X-Robots-Tag:noindex
X-PUBLISHED-TTL:PT1H
BEGIN:VTIMEZONE
TZID:UTC
BEGIN:STANDARD
TZOFFSETFROM:+0000
TZOFFSETTO:+0000
TZNAME:UTC
DTSTART:20240101T000000
END:STANDARD
END:VTIMEZONE
BEGIN:VEVENT
DTSTART;VALUE=DATE:20250905
DTEND;VALUE=DATE:20250908
DTSTAMP:20260424T061510
CREATED:20250120T092353Z
LAST-MODIFIED:20250120T094002Z
UID:3463-1757030400-1757289599@bmscmc.org
SUMMARY:BMC GOWER CLIMBING FESTIVAL 2025
DESCRIPTION:Information: The BMC Gower Festival is an annual event. Some of us have attended in the past when it was based at the Pitton Cross campsite where we’ve also stayed on club trips. The new venue is at a Scout Centre nearer to Swansea. This is a family event. Rather than bore you with loads of details\, just take a look at THIS SHORT VIDEO of the 2024 event and at the BMC Gower Climbing Festival Facebook page. There will be plenty to do at the festival site\, but the climbing (sport\, trad and bouldering) is excellent. Tickets for the event will be available from about May and will sell out quickly. \nServices: Pick up supplies on the way in past Swansea or while out in Gower during the day. Food stalls and bar available on the festival site\, together with gear stalls. \nAccommodation: Camping (space for tents and camper vans\, though these get booked quite quickly). Other campsites available if you don’t want to stay on the festival site. \nFood: Self-catering or buy at festival food stalls. Pubs and restaurants near climbing venues. \nTransport: Probably cars. Nearest train station is Swansea. \nItinerary: Arrive on Friday to climb if agreed. Otherwise meet the festival site on Friday evening. Climbing on Saturday\, and on Sunday for those not in a hurry to get home. Some free courses will be on offer. For example\, Jim and I did a good self-rescue session on our last visit.
URL:https://bmscmc.org/event/bmc-gower-climbing-festival-2025/
LOCATION:Moorlakes Wood Scout Centre\, Fairwood\, Southgate\, Swansea\, Glamorgan\, SA4 3PQ\, United Kingdom
CATEGORIES:Trips
ATTACH;FMTTYPE=image/jpeg:https://bmscmc.org/wp-content/uploads/2025/01/PHOTO-2025-01-19-22-57-59.jpg
ORGANIZER;CN="Andrew Martin":MAILTO:avicm1954@gmail.com
END:VEVENT
BEGIN:VEVENT
DTSTART;VALUE=DATE:20250912
DTEND;VALUE=DATE:20250915
DTSTAMP:20260424T061510
CREATED:20250112T161218Z
LAST-MODIFIED:20250112T161218Z
UID:3410-1757635200-1757894399@bmscmc.org
SUMMARY:End of Summer Grit Trip
DESCRIPTION:Info \nTake advantage of the end of summer weather and get out on the Grit… Trad and bouldering. Limestone (trad and sport)  and hill walking all available too. Plans to follow the best of the weather climbing on the best crags\, making sure we get some bouldering in to balance off with the trad climbing.\n\nServices\nGear shops and general shops in Hathersage and Castleton. Hole in the wall machines less available than you think.\n\nAccommodation\nStaying at YHA Castleton (camping is the cheap option…) YHA Castleton Losehill Hall Hostel | Cheap Peak District Accommodation\n\nFood\nShared kitchen and dining at the hostel\, along with a pizza cafe and bar. Plenty of pubs in Castleton…\n\nTransport\nCastleton is on the Sheffield to Manchester train line. Buses also available from Sheffield. Get in touch with Jim if you need a lift and he’ll see if there is an option…\n\nDates\n12th to14th September 2024
URL:https://bmscmc.org/event/end-of-summer-grit-trip/
LOCATION:Peak District\, S32 1BR\, United Kingdom
CATEGORIES:Trips
ATTACH;FMTTYPE=image/jpeg:https://bmscmc.org/wp-content/uploads/2025/01/Peak-1-scaled.jpg
END:VEVENT
BEGIN:VEVENT
DTSTART;TZID=UTC:20250920T080000
DTEND;TZID=UTC:20250921T170000
DTSTAMP:20260424T061510
CREATED:20250625T183704Z
LAST-MODIFIED:20250625T183704Z
UID:3575-1758355200-1758474000@bmscmc.org
SUMMARY:South West Coastal Walk September 2025
DESCRIPTION:Information\nJoin Andrew (S) and Jim for their regular visit to the SW Coastal Path…. Starting at North Morte Farm and heading south to Croyde and Baggy Point… There’s plenty to see\, there and back. A great day for walking and for those who want to climb\, accessible sea cliffs with lots of adventure. The Club has walked and climbed here on a few occasions\, and we can advise if you are keen on the adventure… \nServices\nCash machines and shops on the road in. The Camp site has a store too. Probably a pub meal (20 minutes walk) on Saturday night… Bring what you need for walking or climbing but there might be a middle of the day stop… \nAccommodation\nNorth Morte Farm… Highly recommended and as good as it gets… Camp Site \nFood\nProbably arrive early Saturday… 08:30 at the camp site. Bring food for the day… Plenty of options on the way in. Saturday night\, a visit to ‘The Ship Aground’ – the Club’s spiritual home in North Devon Pirate Country… \nTransport\nPublic transport can get you to Woolacoombe but it’s not easy… Get in touch with Jim early and we may be able to sort something from Bristol or Shepton Mallet…
URL:https://bmscmc.org/event/south-west-coastal-walk-september-2025/
LOCATION:North Morte Farm\, Mortehoe\, Woolacombe\, North Devon\, EX34 7EG\, United Kingdom
CATEGORIES:Trips
ATTACH;FMTTYPE=image/jpeg:https://bmscmc.org/wp-content/uploads/2025/06/Baggy.jpg
END:VEVENT
END:VCALENDAR