BEGIN:VCALENDAR
VERSION:2.0
PRODID:-//BMSCMC - ECPv6.15.20//NONSGML v1.0//EN
CALSCALE:GREGORIAN
METHOD:PUBLISH
X-ORIGINAL-URL:https://bmscmc.org
X-WR-CALDESC:Events for BMSCMC
REFRESH-INTERVAL;VALUE=DURATION:PT1H
X-Robots-Tag:noindex
X-PUBLISHED-TTL:PT1H
BEGIN:VTIMEZONE
TZID:UTC
BEGIN:STANDARD
TZOFFSETFROM:+0000
TZOFFSETTO:+0000
TZNAME:UTC
DTSTART:20250101T000000
END:STANDARD
END:VTIMEZONE
BEGIN:VEVENT
DTSTART;VALUE=DATE:20260626
DTEND;VALUE=DATE:20260629
DTSTAMP:20260423T204024
CREATED:20260227T133253Z
LAST-MODIFIED:20260227T133258Z
UID:3660-1782432000-1782691199@bmscmc.org
SUMMARY:Kernow 2026
DESCRIPTION:Info: The plan is as follows but is subject to change… \nDrive down on Friday evening and leave on the Sunday after climbing all weekend. Climb in the South West area\, around the classics in Sennen\, Chair Ladder and Bosigran all day Saturday. \nThen on Sunday drive home diverting to Roche Rock. This crag is an outcrop of rock with ruins of a Gothic chapel built on top with an altered granite rock type with ‘gritstone-like friction.’ Grades ranging from D – E4! \n  \nAccommodation: The North Inn – in Pendeen. £10 per person per night including use of the showers which\, with the toilets\, are situated in the pub itself. \nhttps://thenorthinnpendeen.co.uk/ \n  \nFood: The choice is yours\, bring your own\, takeaway\, or eat in somewhere. \n  \nTransport: Unfortunately\, car is the only way. There’s not much in terms of public transport in deepest darkest Kernow. \n  \nServices: Not a lot\, so bring what you need.
URL:https://bmscmc.org/event/kernow-2026/
LOCATION:cornwall\, Morvah\, Penzance\, TR20 8YX\, United Kingdom
CATEGORIES:Trips
ATTACH;FMTTYPE=image/jpeg:https://bmscmc.org/wp-content/uploads/2026/02/54591097879_8296906061_c.jpg
END:VEVENT
END:VCALENDAR