BEGIN:VCALENDAR
VERSION:2.0
PRODID:-//BMSCMC - ECPv6.15.20//NONSGML v1.0//EN
CALSCALE:GREGORIAN
METHOD:PUBLISH
X-ORIGINAL-URL:https://bmscmc.org
X-WR-CALDESC:Events for BMSCMC
REFRESH-INTERVAL;VALUE=DURATION:PT1H
X-Robots-Tag:noindex
X-PUBLISHED-TTL:PT1H
BEGIN:VTIMEZONE
TZID:UTC
BEGIN:STANDARD
TZOFFSETFROM:+0000
TZOFFSETTO:+0000
TZNAME:UTC
DTSTART:20240101T000000
END:STANDARD
END:VTIMEZONE
BEGIN:VEVENT
DTSTART;VALUE=DATE:20250808
DTEND;VALUE=DATE:20250811
DTSTAMP:20260424T144223
CREATED:20250120T091141Z
LAST-MODIFIED:20250728T081646Z
UID:3458-1754611200-1754870399@bmscmc.org
SUMMARY:LAKE DISTRICT
DESCRIPTION:Information: A small group of us are planning to spend the weekend around Coniston with the aim of climbing at Dow Crag on Saturday 9th. Dow Crag is one of the biggest crags in England with multi-pitch climbing up to 100m at all grades. The Classic Rock climb\, Murray’s Route (S 4a) beckons and Giant’s Crawl is one of (if not the) best Diff routes in Britain. \nServices: Everything you need can be found in Coniston\, including some good gear shops. \nAccommodation: I have booked an AirBnB cottage near Torver just south of Coniston. \nFood: Self-catering in the cottage with evening meals out possible in nearby pubs and restaurants. \nTransport: Car is really the only sensible option. \nItinerary: Arrive on Friday to climb if agreed. Otherwise meet at the cottage on Friday evening or on Saturday morning. Possible second venue on Saturday. Climbing on Sunday for those not in a hurry to get home.
URL:https://bmscmc.org/event/lake-district/
LOCATION:Coniston\, Cumbria\, LA21 8AJ\, United Kingdom
CATEGORIES:Trips
ATTACH;FMTTYPE=image/jpeg:https://bmscmc.org/wp-content/uploads/2025/01/PHOTO-2025-01-19-22-57-59-2.jpg
ORGANIZER;CN="Andrew Martin":MAILTO:avicm1954@gmail.com
END:VEVENT
END:VCALENDAR