BEGIN:VCALENDAR
VERSION:2.0
PRODID:-//BMSCMC - ECPv6.15.20//NONSGML v1.0//EN
CALSCALE:GREGORIAN
METHOD:PUBLISH
X-WR-CALNAME:BMSCMC
X-ORIGINAL-URL:https://bmscmc.org
X-WR-CALDESC:Events for BMSCMC
REFRESH-INTERVAL;VALUE=DURATION:PT1H
X-Robots-Tag:noindex
X-PUBLISHED-TTL:PT1H
BEGIN:VTIMEZONE
TZID:UTC
BEGIN:STANDARD
TZOFFSETFROM:+0000
TZOFFSETTO:+0000
TZNAME:UTC
DTSTART:20250101T000000
END:STANDARD
END:VTIMEZONE
BEGIN:VEVENT
DTSTART;VALUE=DATE:20260717
DTEND;VALUE=DATE:20260720
DTSTAMP:20260423T231124
CREATED:20250201T135746Z
LAST-MODIFIED:20250709T075103Z
UID:3483-1784246400-1784505599@bmscmc.org
SUMMARY:Somerset 2026
DESCRIPTION:Information: Arrive Friday 17th July 2026 with options to boulder at Ubley Warren. A day (Saturday) over at one of the crags and then a probable visit to one of the quarries Sunday morning. Bouldering\, sport\, trad\, sea cliffs\, gorges and quarries… something for everyone. Please get in touch with Jim so he can make arrangements. \nServices: Not much\, bring it all with you. There are local shops in the village 1.5km away and 3 pubs within a 10 minute drive. \nAccommodation: Floor space or camping at Jim’s house. More van space now the front tree has gone… \nFood: BBQ on Friday & Saturday night and there is always something for breakfast. \nTransport: You will need a car or at least\, space in one… \nDates: Arrive on the evening of Friday 17th July 2026 and leave on Sunday 19th July 2026.
URL:https://bmscmc.org/event/somerset-2026/
LOCATION:West Harptree\, Jim's House\, West Harptree\, Somerset\, United Kingdom
CATEGORIES:Trips
ATTACH;FMTTYPE=image/jpeg:https://bmscmc.org/wp-content/uploads/2025/02/Somerset-Picture-2-1.jpg
END:VEVENT
BEGIN:VEVENT
DTSTART;VALUE=DATE:20260731
DTEND;VALUE=DATE:20260803
DTSTAMP:20260423T231124
CREATED:20260116T170457Z
LAST-MODIFIED:20260116T170457Z
UID:3627-1785456000-1785715199@bmscmc.org
SUMMARY:Dartmoor 2026
DESCRIPTION:Information: Meet up Saturday morning at 09:00 at Hound Tor. Spend the morning trad climbing and bouldering. Weather and conditions allowing\, we’ll move onto Bone Hill Rocks in the afternoon where there’ll be the option of wild camping overnight for an early start on Sunday morning (those rocks won’t climb themselves!) \nServices: Bovey Tracey has banks and shops and is a convenient stop off on the way over the Moors. Bovey is the self-appointed ‘Gateway of the Moors’ and will provide all the necessaries… \nWe’re based at Chagford\, which is a good gateway if approaching the moor from the East via the A30\, there’s also a service station at Whiddon Down just off the A30 where basic sundries and fuel can be obtained. \nClosest rail station is at Okehampton (it’s a full ten tors walk from there to the climbs with no busses so you’d need to arrange lifts if you’re planning that!) \nAccommodation: Some of those in the Southwest may treat this as an extended day trip but for those that want to stay over… We are planning to bivvy/ camp overnight Saturday. The National Park normally publishes a map for wild camping and local restrictions\, including camping 100m from the road and not in sight of any buildings. Bone Hill is ideal. \nIf conditions are less than perfect there’s some floor space at ours and a number of pubs in Chagford that do accommodation (at a price). \nThere’s a YHA at Post Bridge (which also hosts a good pub) and a campsite/ bunkhouse at Runnage farm (a short walk from Post Bridge) as well. \nHopefully a more self sufficient weekend but with fall back options for those seeking a touch more comfort! \nTransport: Cars is the best plan. Public transport doesn’t really exist on the moors and the ponies aren’t well trained!
URL:https://bmscmc.org/event/dartmoor-2026/
LOCATION:Hound Tor\, Hound Tor\, Newton Abbot\, TQ13 9XG\, United Kingdom
CATEGORIES:Trips
ATTACH;FMTTYPE=image/jpeg:https://bmscmc.org/wp-content/uploads/2026/01/Dartmoor.jpg
END:VEVENT
END:VCALENDAR